BEGIN:VCALENDAR
VERSION:2.0
PRODID:-//Breathwork, Shadow Work, &amp; Soul Coaching in Redding, CA + Online - ECPv6.1.3//NONSGML v1.0//EN
CALSCALE:GREGORIAN
METHOD:PUBLISH
X-ORIGINAL-URL:https://joyaugust.com
X-WR-CALDESC:Events for Breathwork, Shadow Work, &amp; Soul Coaching in Redding, CA + Online
REFRESH-INTERVAL;VALUE=DURATION:PT1H
X-Robots-Tag:noindex
X-PUBLISHED-TTL:PT1H
BEGIN:VTIMEZONE
TZID:UTC
BEGIN:STANDARD
TZOFFSETFROM:+0000
TZOFFSETTO:+0000
TZNAME:UTC
DTSTART:20230101T000000
END:STANDARD
END:VTIMEZONE
BEGIN:VEVENT
DTSTART;TZID=UTC:20231014T090000
DTEND;TZID=UTC:20231014T120000
DTSTAMP:20260422T013245
CREATED:20230725T194022Z
LAST-MODIFIED:20230725T194226Z
UID:10245-1697274000-1697284800@joyaugust.com
SUMMARY:Monthly Group Breathwork Session - October
DESCRIPTION:Click Title Above for more information. \nJoin Joy August as she holds space and guides you in a deep clearing breathwork session. \nThis time will begin with some introduction and intention setting. Then we will move into 60-75 minutes of deep connected breathing where we learn to let go and build trust with our bodies and our hearts to release old patterns\, stuck energy\, suppressed emotions and trauma. The session will end with some time of integration. \nPlease bring: yoga mat\, blankets\, pillow\, water\, & journal. \nClick the link above to register.
URL:https://joyaugust.com/event/monthly-group-breathwork-session-october/
LOCATION:TBD\, 2255 Crestview Ave\, Redding\, 96001\, United States
END:VEVENT
END:VCALENDAR